BEGIN:VCALENDAR
VERSION:2.0
PRODID:-//eventon.com NONSGML v1.0//EN
BEGIN:VEVENT
UID:69e5fb06966d7
DTSTAMP:20260420T050806
DTSTART:20241026T223000Z
DTEND:20241026T233000Z
TZID:America/Chicago
LOCATION:River Valley Natural Health 111688 S 4823 Rd.
SUMMARY:River Valley Natural Health\,  Moffett
DESCRIPTION: Join&nbsp;us&nbsp;for&nbsp;a&nbsp;laid-back&nbsp;and&nbsp;friendly&nbsp;pop-up&nbsp;event&nbsp;brought&nbsp;to&nbsp;you&nbsp;by&nbsp;Country&nbsp;Cannabis!&nbsp;Dive&nbsp;into&nbsp;the&nbsp;essence&nbsp;of&nbsp;&#8220;The&nbsp;Working&nbsp;Man’s&nbsp;Weed&#8221;&nbsp;and&nbsp;discover&nbsp;top-tier&nbsp;products&nbsp;made&nbsp;for&nbsp;you.&nbsp;See&nbsp;you&nbsp;there!\nhttps://countrycannabis.com/events/river-valley-natural-health-moffett/
URL:https://countrycannabis.com/events/river-valley-natural-health-moffett/
END:VEVENT
END:VCALENDAR