BEGIN:VCALENDAR
VERSION:2.0
PRODID:-//eventon.com NONSGML v1.0//EN
BEGIN:VEVENT
UID:69e65866a7642
DTSTAMP:20260420T114630
DTSTART:20240919T160000Z
DTEND:20240919T180000Z
TZID:America/Chicago
LOCATION:Okie Wonderland - Claremore 774 S Lynn Riggs Blvd\,  Claremore\,  OK 74017
SUMMARY:Okie Wonderland Claremore PopUp
DESCRIPTION: \nhttps://countrycannabis.com/events/okie-wonderland-claremore-popup/
URL:https://countrycannabis.com/events/okie-wonderland-claremore-popup/
END:VEVENT
END:VCALENDAR