BEGIN:VCALENDAR
VERSION:2.0
PRODID:-//eventon.com NONSGML v1.0//EN
BEGIN:VEVENT
UID:69e5fcc686c98
DTSTAMP:20260420T051534
DTSTART:20240921T190000Z
DTEND:20240921T220000Z
TZID:America/Chicago
LOCATION:Fritz's Fire House 101 "Steve Owens Blvd\,  3rd Ave SW\,  Miami\,  OK 74354
SUMMARY:Fritz Fire House Miami PopUp
DESCRIPTION: \nhttps://countrycannabis.com/events/fritz-fire-house-miami-popup/
URL:https://countrycannabis.com/events/fritz-fire-house-miami-popup/
END:VEVENT
END:VCALENDAR