BEGIN:VCALENDAR
VERSION:2.0
PRODID:-//eventon.com NONSGML v1.0//EN
BEGIN:VEVENT
UID:69e5e7bbe1257
DTSTAMP:20260420T034547
DTSTART:20240823T153000Z
DTEND:20240823T170000Z
TZID:America/Chicago
LOCATION:Sallisaw Natural Health 456 W Ruth Ave
SUMMARY:Salisaw Natural Heath PopUp
DESCRIPTION: \nhttps://countrycannabis.com/events/salisaw-natural-heath-popup/
URL:https://countrycannabis.com/events/salisaw-natural-heath-popup/
END:VEVENT
END:VCALENDAR