BEGIN:VCALENDAR
VERSION:2.0
PRODID:-//eventon.com NONSGML v1.0//EN
BEGIN:VEVENT
UID:69e7824522b86
DTSTAMP:20260421T085725
DTSTART:20240420T200000Z
DTEND:20240420T210000Z
TZID:America/Chicago
LOCATION:Rocky's Pot Shop 17412 NE 23rd St
SUMMARY:Rocky's Pot Shop  Choctaw PopUp
DESCRIPTION: \nhttps://countrycannabis.com/events/rockys-pot-shop-popup/
URL:https://countrycannabis.com/events/rockys-pot-shop-popup/
END:VEVENT
END:VCALENDAR