BEGIN:VCALENDAR
VERSION:2.0
PRODID:-//eventon.com NONSGML v1.0//EN
BEGIN:VEVENT
UID:69e909434b8c1
DTSTAMP:20260422T124539
DTSTART:20231027T200000Z
DTEND:20231027T220000Z
TZID:America/Chicago
LOCATION:Pharm 788 - Roland 480858 US 64
SUMMARY:Pharm 788 - Roland Cannabis Events
DESCRIPTION: \nhttps://countrycannabis.com/events/pharm-788-roland-cannabis-events/
URL:https://countrycannabis.com/events/pharm-788-roland-cannabis-events/
END:VEVENT
END:VCALENDAR