BEGIN:VCALENDAR
VERSION:2.0
PRODID:-//eventon.com NONSGML v1.0//EN
BEGIN:VEVENT
UID:69e5e6ed14b79
DTSTAMP:20260420T034221
DTSTART:20230210T222000Z
DTEND:20230211T002000Z
TZID:America/Chicago
LOCATION:Nugz Dispensary 1927 S Green Ave
SUMMARY:Country Cannabis Popup At Nugz Dispensary
DESCRIPTION: Meet Country Cannabis at the Nugz Dispensary in Purcell\,  Oklahoma. We will have samples of our 1 gram prerolls and Nectar products.\nhttps://countrycannabis.com/events/country-cannabis-popup-at-nugz-dispensary/
URL:https://countrycannabis.com/events/country-cannabis-popup-at-nugz-dispensary/
END:VEVENT
END:VCALENDAR